{
"currentVersion": 10.81,
"serviceDescription": "Sentinel-2, 10, 20 and 60m Multispectral, Multitemporal, 13-band images with visual renderings and indices. This image service is sourced from the Sentinel-2 on AWS collections, is updated daily with new imagery, and consists of imagery collected within the past 14 months. This service can be applied across a number of industries, scientific disciplines, and management practices. Some applications include, but are not limited to, land cover and environmental monitoring, climate change, deforestation, disaster and emergency management, national security, plant health and precision agriculture, forest monitoring, watershed analysis and runoff predictions, land-use planning, tracking urban expansion, highlighting burned areas and estimating fire severity. For more information visit us Online<\/a>.",
"name": "Sentinel2",
"description": "Sentinel-2, 10, 20 and 60m Multispectral, Multitemporal, 13-band images with visual renderings and indices. This image service is sourced from the Sentinel-2 on AWS collections, is updated daily with new imagery, and consists of imagery collected within the past 14 months. This service can be applied across a number of industries, scientific disciplines, and management practices. Some applications include, but are not limited to, land cover and environmental monitoring, climate change, deforestation, disaster and emergency management, national security, plant health and precision agriculture, forest monitoring, watershed analysis and runoff predictions, land-use planning, tracking urban expansion, highlighting burned areas and estimating fire severity. For more information visit us Online<\/a>.",
"extent": {
"xmin": -2.00372086216E7,
"ymin": -1.0100722918799996E7,
"xmax": 2.00372113784E7,
"ymax": 1.2121837081200004E7,
"spatialReference": {
"wkid": 102100,
"latestWkid": 3857
}
},
"initialExtent": {
"xmin": -2.00372086216E7,
"ymin": -1.0100722918799996E7,
"xmax": 2.00372113784E7,
"ymax": 1.2121837081200004E7,
"spatialReference": {
"wkid": 102100,
"latestWkid": 3857
}
},
"fullExtent": {
"xmin": -2.00372086216E7,
"ymin": -1.0100722918799996E7,
"xmax": 2.00372113784E7,
"ymax": 1.2121837081200004E7,
"spatialReference": {
"wkid": 102100,
"latestWkid": 3857
}
},
"timeInfo": {
"startTimeField": "acquisitiondate",
"endTimeField": "acquisitiondate",
"timeExtent": [
1430438400000,
1783396674000
],
"timeReference": null
},
"pixelSizeX": 10,
"pixelSizeY": 10,
"datasetFormat": "AMD",
"uncompressedSize": 231544612757952,
"blockWidth": 2048,
"blockHeight": 256,
"compressionType": "None",
"bandNames": [
"B1_Aerosols",
"B2_Blue",
"B3_Green",
"B4_Red",
"B5_RedEdge",
"B6_RedEdge",
"B7_RedEdge",
"B8_NearInfraRed",
"B8A_NarrowNIR",
"B9_WaterVapour",
"B10_Cirrus",
"B11_ShortWaveInfraRed",
"B12_ShortWaveInfraRed"
],
"allowCopy": false,
"allowAnalysis": true,
"bandCount": 13,
"pixelType": "U16",
"minPixelSize": 0,
"maxPixelSize": 0,
"copyrightText": "Source: Esri, European Commission, European Space Agency, Amazon Web Services",
"serviceDataType": "esriImageServiceDataTypeGeneric",
"serviceSourceType": "esriImageServiceSourceTypeMosaicDataset",
"minValues": [],
"maxValues": [],
"meanValues": [],
"stdvValues": [],
"objectIdField": "objectid",
"fields": [
{
"name": "objectid",
"type": "esriFieldTypeOID",
"alias": "objectid",
"domain": null
},
{
"name": "name",
"type": "esriFieldTypeString",
"alias": "name",
"domain": null,
"length": 200
},
{
"name": "minps",
"type": "esriFieldTypeDouble",
"alias": "minps",
"domain": null
},
{
"name": "maxps",
"type": "esriFieldTypeDouble",
"alias": "maxps",
"domain": null
},
{
"name": "lowps",
"type": "esriFieldTypeDouble",
"alias": "lowps",
"domain": null
},
{
"name": "highps",
"type": "esriFieldTypeDouble",
"alias": "highps",
"domain": null
},
{
"name": "category",
"type": "esriFieldTypeInteger",
"alias": "category",
"domain": {
"type": "codedValue",
"name": "MosaicCatalogItemCategoryDomain",
"description": "Catalog item categories.",
"codedValues": [
{
"name": "Unknown",
"code": 0
},
{
"name": "Primary",
"code": 1
},
{
"name": "Overview",
"code": 2
},
{
"name": "Unprocessed Overview",
"code": 3
},
{
"name": "Partial Overview",
"code": 4
},
{
"name": "Inactive",
"code": 5
},
{
"name": "Uploaded",
"code": 253
},
{
"name": "Incomplete",
"code": 254
},
{
"name": "Custom",
"code": 255
}
],
"mergePolicy": "esriMPTDefaultValue",
"splitPolicy": "esriSPTDefaultValue"
}
},
{
"name": "productname",
"type": "esriFieldTypeString",
"alias": "productname",
"domain": null,
"length": 100
},
{
"name": "shape",
"type": "esriFieldTypeGeometry",
"alias": "shape",
"domain": null
},
{
"name": "acquisitiondate",
"type": "esriFieldTypeDate",
"alias": "acquisitiondate",
"domain": null,
"length": 8
},
{
"name": "cloudcover",
"type": "esriFieldTypeDouble",
"alias": "cloudcover",
"domain": null
},
{
"name": "tileurl",
"type": "esriFieldTypeString",
"alias": "tileurl",
"domain": null,
"length": 100
},
{
"name": "tile_id",
"type": "esriFieldTypeString",
"alias": "tile_id",
"domain": null,
"length": 30
},
{
"name": "tilename",
"type": "esriFieldTypeString",
"alias": "tilename",
"domain": null,
"length": 6
},
{
"name": "q",
"type": "esriFieldTypeInteger",
"alias": "q",
"domain": null
},
{
"name": "best",
"type": "esriFieldTypeInteger",
"alias": "best",
"domain": null
},
{
"name": "datatype_format",
"type": "esriFieldTypeString",
"alias": "datatype_format",
"domain": null,
"length": 15
},
{
"name": "datastripid",
"type": "esriFieldTypeString",
"alias": "DataStripID",
"domain": null,
"length": 90
},
{
"name": "syncdatetime",
"type": "esriFieldTypeDate",
"alias": "SyncDateTime",
"domain": null,
"length": 8
},
{
"name": "scene_cloud",
"type": "esriFieldTypeDouble",
"alias": "Scene_Cloud",
"domain": null
},
{
"name": "dateupdated",
"type": "esriFieldTypeInteger",
"alias": "DateUpdated",
"domain": null
},
{
"name": "recenttiles",
"type": "esriFieldTypeString",
"alias": "recenttiles",
"domain": null,
"length": 10
}
],
"capabilities": "Image,Metadata,Catalog,Mensuration",
"defaultMosaicMethod": "ByAttribute",
"allowedMosaicMethods": "ByAttribute,Seamline,NorthWest,Center,LockRaster,Nadir,Viewpoint,None",
"sortField": "best",
"sortValue": "0",
"sortAscending": true,
"mosaicOperator": "First",
"maxDownloadSizeLimit": 2048,
"defaultCompressionQuality": 85,
"defaultResamplingMethod": "Bilinear",
"maxImageHeight": 4000,
"maxImageWidth": 4000,
"maxRecordCount": 2000,
"maxDownloadImageCount": 50,
"maxMosaicImageCount": 50,
"allowRasterFunction": true,
"rasterFunctionInfos": [
{
"name": "Natural Color with DRA",
"description": "Natural Color bands red, green, blue (4, 3, 2) displayed with dynamic range adjustment applied.",
"help": ""
},
{
"name": "Agriculture with DRA",
"description": "Bands shortwave IR-1, near-IR, blue (11, 8, 2) with dynamic range adjustment applied. Vigorous veg. is bright green, stressed veg. dull green and bare areas as brown.",
"help": ""
},
{
"name": "Bathymetric with DRA",
"description": "Bands red, green, coastal/aerosol(4, 3, 1) with dynamic range adjustment applied. Useful in bathymetric mapping applicaitons.",
"help": ""
},
{
"name": "Color Infrared with DRA",
"description": "Bands near-infrared, red, green (8,4,3) with dynamic range adjustment applied. Healthy vegetation is bright red while stressed vegetation is dull red.",
"help": ""
},
{
"name": "Short-wave Infrared with DRA",
"description": "Bands shortwave infrared-2, shortwave infrared-1, red (12, 11, 4) with dynamic range adjustment applied.",
"help": ""
},
{
"name": "Geology with DRA",
"description": "Bands shortwave IR-2, shortwave IR-1, blue (12, 11, 2) with dynamic range adjustment applied. Highlights geological features.",
"help": ""
},
{
"name": "Natural Color",
"description": "Natural Color bands red, green, blue(4, 3, 2) displayed with fixed stretch applied.",
"help": ""
},
{
"name": "Agriculture",
"description": "Bands shortwave IR-1, near-IR, blue (11,8,2) with fixed stretched applied. Vigorous vegetation is bright green, stressed vegetation dull green and bare areas as brown.",
"help": ""
},
{
"name": "Bathymetric",
"description": "Bands red, green, coastal/aerosol(4, 3, 1) with fixed stretched applied. Useful in bathymetric mapping applicaitons.",
"help": ""
},
{
"name": "Geology",
"description": "Bands shortwave IR-2, shortwave IR-1, blue (12, 11, 2) with fixed stretched applied. Highlights geological features.",
"help": ""
},
{
"name": "Short-wave Infrared",
"description": "Bands shortwave infrared-2, shortwave infrared-1, red (12, 11, 4) with fixed stretch.",
"help": ""
},
{
"name": "Color Infrared",
"description": "Bands near-infrared, red, green (8,4,3) with fixed stretch applied. Healthy vegetation is bright red while stressed vegetation is dull red.",
"help": ""
},
{
"name": "NDVI Colormap",
"description": "Normalized difference vegetation index (NDVI) with colormap. Dark green represents vigorous vegetation and brown represents sparse vegetation. It is computed as (b8 - b4) / (b8 + b4) and is suitable for vegetation, land cover and plant health monitoring.",
"help": ""
},
{
"name": "NDMI Colorized",
"description": "Normalized Difference Moisture Index with color map. Wetlands and moist areas appear blue whereas dry areas are represented by deep yellow and brown color. It is computed as NIR(B8)-SWIR1(B11)/NIR(B8)+SWIR1(B11).",
"help": ""
},
{
"name": "Normalized Burn Ratio",
"description": "The NBR index is computed as NIR(Band08)-SWIR(Band12)/NIR(Band08)+SWIR(Band12) and appropriate for highlighting burned areas and estimating fire severity. It highlights burnt areas in fire zones greater than 500 acres. You will need to generate a differenced NBR image by subtracting a post-fire image from a pre-fire image. The resulting darker pixels represent burned areas.",
"help": ""
},
{
"name": "Normalized Difference Built-Up Index (NDBI)",
"description": "The NDBI index is computed as SWIR(Band11)-NIR(Band08)/ SWIR(Band11)+NIR(Band08) and is suitable for watershed runoff predictions, tracking urbananisation and land-use planning. It highlights urban areas with higher reflectance in the SWIR region, compared to the NIR region.",
"help": ""
},
{
"name": "NDVI Raw",
"description": "Normalized difference vegetation index (NDVI) computed as (b8 - b4) / (b8 + b4) and is suitable for vegetation, land cover and plant health monitoring.",
"help": ""
},
{
"name": "NDVI - VRE only Raw",
"description": "The NDVI - VRE only (NDVI705) Raw index is computed as VRE(Band06)-VRE(Band05)/VRE(Band06)+VRE(Band05) and is most suitable for precision agriculture, forest monitoring and vegetation stress detection. This index is an alteration of the NDVI index and unlike the NDVI index which uses bands from the main absorption and reflectance peaks, this index uses the bands along the red edge. The VRE bands are very sensitive to minor changes in canopy foliage content, gap fraction and deterioration.",
"help": ""
},
{
"name": "NDVI - with VRE Raw",
"description": "The NDVI - with VRE(NDRE) Raw index is computed as NIR(Band08)-VRE(Band05)/NIR(Band08)+VRE(Band05), also known as NDRE (Normalized Difference Red Edge) and is more appropriate than NDVI index for intensive management applications throughout the growing season. It is a modification of the NDVI index, however works as a better measure of vegetation health than NDVI especially for mid-late season crops that have elevated levels of chlorophyll because VRE bands are more translucent to leaves than red light and hence is seldom completely absorbed by a canopy.",
"help": ""
},
{
"name": "NDWI Raw",
"description": "The NDWI index is computed as Green(Band03)-NIR(Band08)/ Green(Band03)+NIR(Band08) and is most suitable for mapping of water bodies, droughts, boundary evaluation. Water bodies have strong absorbability and low radiation within the visible to infrared spectral ranges and this index is based on this phenomenon.",
"help": ""
},
{
"name": "NDWI - with VRE Raw",
"description": "The NDWI - with VRE Raw index is computed as Green(Band03)-VRE(Band05)/Green(Band03)+VRE(Band05) and is most suitable for mapping of water bodies, droughts, boundary evaluation. This index is an alteration of the NDWI index and unlike the NDWI index which uses the NIR band, this index uses VRE band05 along the red edge.",
"help": ""
},
{
"name": "None",
"description": "Make a Raster or Raster Dataset into a Function Raster Dataset.",
"help": ""
}
],
"rasterTypeInfos": [
{
"name": "Raster Dataset",
"description": "Supports all ArcGIS Raster Datasets",
"help": ""
}
],
"mensurationCapabilities": "Basic",
"hasHistograms": false,
"hasColormap": false,
"hasRasterAttributeTable": false,
"minScale": 0,
"maxScale": 0,
"exportTilesAllowed": false,
"hasMultidimensions": false,
"supportsStatistics": true,
"supportsAdvancedQueries": true,
"editFieldsInfo": null,
"ownershipBasedAccessControlForRasters": null,
"allowComputeTiePoints": false,
"useStandardizedQueries": true,
"advancedQueryCapabilities": {
"useStandardizedQueries": true,
"supportsStatistics": true,
"supportsOrderBy": true,
"supportsDistinct": true,
"supportsPagination": true
},
"spatialReference": {
"wkid": 102100,
"latestWkid": 3857
}
}